BEGIN:VCALENDAR
VERSION:2.0
METHOD:PUBLISH
PRODID:-//Agenda.ad//NONSGML v1.0//EN
BEGIN:VEVENT
CLASS:PUBLIC
UID:72ded4d6e810dedc08d0f1d1d205f2e6@agenda.ad
DTSTAMP:20260424T104825Z
DTSTART:20200130T230000Z
DTEND:20200130T230000Z
SUMMARY:Crema del gener
DESCRIPTION:\n\nMés informació\nhttps://www.agenda.ad/activitat/canill
 o/festes-i-tradicions/crema-del-gener \n\n\nOrganitza\nDepa
 rtament de Cultura i Esports del Comú de Canillo
LOCATION:Canillo
SEQUENCE:0
TRANSP:OPAQUE
X-ALT-DESC;FMTTYPE=text/html:<!DOCTYPE HTML PUBLIC "-//W3C//DTD HTML 3.2//EN"><HTML><HEAD
 ><TITLE></TITLE></HEAD><BODY><FONT FACE="Arial" SIZE=2><br/>
 <br/><b>Més informació</b><br/><a href="https://www.agenda
 .ad/activitat/canillo/festes-i-tradicions/crema-del-gener "
 >https://www.agenda.ad/activitat/canillo/festes-i-tradicions
 /crema-del-gener </a><br/><br/><br/><b>Organitza</b><br/>De
 partament de Cultura i Esports del Comú de Canillo</FONT></
 BODY></HTML>
END:VEVENT
END:VCALENDAR